BEGIN:VCALENDAR
VERSION:2.0
PRODID:-//NADI Mengkebang - ECPv6.15.20//NONSGML v1.0//EN
CALSCALE:GREGORIAN
METHOD:PUBLISH
X-WR-CALNAME:NADI Mengkebang
X-ORIGINAL-URL:https://mengkebang.nadi.my
X-WR-CALDESC:Events for NADI Mengkebang
REFRESH-INTERVAL;VALUE=DURATION:PT1H
X-Robots-Tag:noindex
X-PUBLISHED-TTL:PT1H
BEGIN:VTIMEZONE
TZID:Asia/Kuala_Lumpur
BEGIN:STANDARD
TZOFFSETFROM:+0800
TZOFFSETTO:+0800
TZNAME:+08
DTSTART:20250101T000000
END:STANDARD
END:VTIMEZONE
BEGIN:VEVENT
DTSTART;TZID=Asia/Kuala_Lumpur:20260305T140000
DTEND;TZID=Asia/Kuala_Lumpur:20260305T153000
DTSTAMP:20260425T085458
CREATED:20260226T075245Z
LAST-MODIFIED:20260226T075245Z
UID:2830-1772719200-1772724600@mengkebang.nadi.my
SUMMARY:JEMPUTAN LIVE WEBINAR NADI x CYBERSECURITY BAGI BULAN MAC 2026
DESCRIPTION:BAHAYA SERANGAN MALWARE 🚨 \nAssalamualaikum & Salam Sejahtera\, \nAnda dijemput untuk menyertai sesi Live Webinar anjuran NADI x Cybersecurity yang akan membincangkan tentang bahaya serangan malware serta langkah-langkah melindungi diri daripada ancaman siber. \n🗓 Tarikh: 05 Mac 2026\n⏰ Masa: 2.00 Petang – 3.30 Petang\n💻 Platform: LMS Cybersecurity\n👥 Sasaran: Pelajar\, Ibu Bapa & Dewasa \n📌 Syarat Penyertaan:\n✅ Berdaftar sebagai Ahli NADI\n✅ Mempunyai akaun LMS Cybersecurity \nJangan lepaskan peluang untuk menambah ilmu dan meningkatkan kesedaran keselamatan siber anda! \n📍 Untuk maklumat lanjut\, lawati NADI terdekat anda. \nJumpa anda di webinar nanti! 💻✨ \n#NADICybersecurity #KeselamatanSiber
URL:https://mengkebang.nadi.my/event/jemputan-live-webinar-nadi-x-cybersecurity-bagi-bulan-mac-2026/
LOCATION:NADI MENGKEBANG\, NADI MENGKEBANG
END:VEVENT
BEGIN:VEVENT
DTSTART;TZID=Asia/Kuala_Lumpur:20260307T140000
DTEND;TZID=Asia/Kuala_Lumpur:20260307T150000
DTSTAMP:20260425T085458
CREATED:20260303T070618Z
LAST-MODIFIED:20260303T070618Z
UID:2874-1772892000-1772895600@mengkebang.nadi.my
SUMMARY:TINY TECHIES-KELAS ULANGKAJI SIRI 3 ATAS TALIAN
DESCRIPTION:🟡 Micro:bit & Robotik \nUlangkaji asas pengaturcaraan dan robotik secara interaktif\, hands-on dan menyeronokkan! Belajar bina logik kod\, kawal pergerakan robot dan fahami konsep teknologi dengan cara yang mudah difahami. \n🗓️ 7 Mac 2026 (Sabtu)\n⏰ 2.00 PM – 3.00 PM\n💻 Platform: NADIBook\n🔗 https://nadibook.my/ \n🟡 Python\, HTML & SQL \nKuasai asas pengaturcaraan\, bina laman web dan fahami pengurusan pangkalan data sebagai persediaan ke tahap lebih tinggi. Sesuai untuk yang ingin mengembangkan kemahiran digital dan teknologi masa kini. \n🗓️ 7 Mac 2026 (Sabtu)\n⏰ 3.30 PM – 4.30 PM\n💻 Platform: NADIBook\n🔗 https://nadibook.my/ \n✨ Kenapa Perlu Sertai?\n🔥 Kelas ONLINE & LIVE (interaktif!)\n🎯 PERCUMA untuk Ahli Berdaftar NADI\n📚 Modul lengkap disediakan\n👨‍🏫 Dikendalikan fasilitator berpengalaman\n💬 Sesi soal jawab secara langsung \n📌 Syarat Penyertaan:\n▪️ Berdaftar sebagai Ahli NADI \n📲 Tempat TERHAD!\nDaftar sekarang & kunjungi NADI berdekatan untuk maklumat lanjut. \n#TinyTechies #AIROBOTECHIES #NADI #TM#MCMC #KelasTeknologi
URL:https://mengkebang.nadi.my/event/tiny-techies-kelas-ulangkaji-siri-3-atas-talian/
LOCATION:NADI MENGKEBANG\, NADI MENGKEBANG
END:VEVENT
BEGIN:VEVENT
DTSTART;TZID=Asia/Kuala_Lumpur:20260312T140000
DTEND;TZID=Asia/Kuala_Lumpur:20260312T153000
DTSTAMP:20260425T085458
CREATED:20260305T083906Z
LAST-MODIFIED:20260305T083906Z
UID:2918-1773324000-1773329400@mengkebang.nadi.my
SUMMARY:JEMPUTAN MENYERTAI WEBINAR KESELAMATAN SIBER
DESCRIPTION:Assalamualaikum dan salam sejahtera. \nAnda dijemput untuk menyertai webinar NADI x Cybersecurity Lifelong Learning yang akan membincangkan topik: \n🔐 CARA GUNAKAN WIFI AWAM DENGAN SELAMAT \nDalam sesi ini\, peserta akan didedahkan tentang risiko menggunakan WiFi awam serta langkah-langkah yang boleh diambil untuk melindungi data dan maklumat peribadi ketika menggunakan rangkaian internet di tempat awam. \n📅 Tarikh: 12 Mac 2026\n⏰ Masa: 2.00 Petang – 3.30 Petang\n💻 Platform: LMS Cybersecurity \n👥 Terbuka kepada: Pelajar\, ibu bapa dan orang dewasa \nSyarat Penyertaan:\n✅ Berdaftar sebagai ahli NADI\n✅ Mempunyai akaun LMS Cybersecurity \n📍 Untuk maklumat lanjut\, sila kunjungi NADI terdekat anda. \nJangan lepaskan peluang untuk menambah ilmu keselamatan siber dan belajar cara melindungi diri ketika menggunakan WiFi awam. \nJumpa anda di webinar nanti!
URL:https://mengkebang.nadi.my/event/jemputan-menyertai-webinar-keselamatan-siber/
LOCATION:NADI MENGKEBANG\, NADI MENGKEBANG
END:VEVENT
END:VCALENDAR