BEGIN:VCALENDAR
VERSION:2.0
PRODID:-//NADI Mengkebang - ECPv6.15.20//NONSGML v1.0//EN
CALSCALE:GREGORIAN
METHOD:PUBLISH
X-WR-CALNAME:NADI Mengkebang
X-ORIGINAL-URL:https://mengkebang.nadi.my
X-WR-CALDESC:Events for NADI Mengkebang
REFRESH-INTERVAL;VALUE=DURATION:PT1H
X-Robots-Tag:noindex
X-PUBLISHED-TTL:PT1H
BEGIN:VTIMEZONE
TZID:UTC
BEGIN:STANDARD
TZOFFSETFROM:+0000
TZOFFSETTO:+0000
TZNAME:UTC
DTSTART:20230101T000000
END:STANDARD
END:VTIMEZONE
BEGIN:VEVENT
DTSTART;TZID=UTC:20241123T090000
DTEND;TZID=UTC:20241123T130000
DTSTAMP:20260426T091855
CREATED:20241101T182745Z
LAST-MODIFIED:20241101T182745Z
UID:2186-1732352400-1732366800@mengkebang.nadi.my
SUMMARY:Kelas Stem & Asas IOT
DESCRIPTION:
URL:https://mengkebang.nadi.my/event/kelas-stem-asas-iot-10/
LOCATION:NADI MENGKEBANG\, NADI MENGKEBANG
CATEGORIES:DEFAULT
END:VEVENT
BEGIN:VEVENT
DTSTART;TZID=UTC:20241121T090000
DTEND;TZID=UTC:20241121T130000
DTSTAMP:20260426T091855
CREATED:20241101T182711Z
LAST-MODIFIED:20241101T182711Z
UID:2185-1732179600-1732194000@mengkebang.nadi.my
SUMMARY:Kelas ICT : Microsoft Word
DESCRIPTION:
URL:https://mengkebang.nadi.my/event/kelas-ict-microsoft-word-30/
LOCATION:NADI MENGKEBANG\, NADI MENGKEBANG
CATEGORIES:DEFAULT
END:VEVENT
BEGIN:VEVENT
DTSTART;TZID=UTC:20241119T140000
DTEND;TZID=UTC:20241119T180000
DTSTAMP:20260426T091855
CREATED:20241101T182638Z
LAST-MODIFIED:20241101T182638Z
UID:2184-1732024800-1732039200@mengkebang.nadi.my
SUMMARY:Kelas ICT: Microsoft Excel
DESCRIPTION:
URL:https://mengkebang.nadi.my/event/kelas-ict-microsoft-excel-25/
LOCATION:NADI MENGKEBANG\, NADI MENGKEBANG
CATEGORIES:DEFAULT
END:VEVENT
BEGIN:VEVENT
DTSTART;TZID=UTC:20241116T090000
DTEND;TZID=UTC:20241116T130000
DTSTAMP:20260426T091855
CREATED:20241101T182555Z
LAST-MODIFIED:20241101T182555Z
UID:2183-1731747600-1731762000@mengkebang.nadi.my
SUMMARY:Kelas Keusahawanan: Tik Tok Marketing
DESCRIPTION:
URL:https://mengkebang.nadi.my/event/kelas-keusahawanan-tik-tok-marketing-2/
LOCATION:NADI MENGKEBANG\, NADI MENGKEBANG
CATEGORIES:DEFAULT
END:VEVENT
BEGIN:VEVENT
DTSTART;TZID=UTC:20241114T090000
DTEND;TZID=UTC:20241114T130000
DTSTAMP:20260426T091855
CREATED:20241101T182514Z
LAST-MODIFIED:20241101T182514Z
UID:2182-1731574800-1731589200@mengkebang.nadi.my
SUMMARY:Kelas Keusahawanan: Tik Tok Shop
DESCRIPTION:
URL:https://mengkebang.nadi.my/event/kelas-keusahawanan-tik-tok-shop-5/
LOCATION:NADI MENGKEBANG\, NADI MENGKEBANG
CATEGORIES:DEFAULT
END:VEVENT
BEGIN:VEVENT
DTSTART;TZID=UTC:20241107T090000
DTEND;TZID=UTC:20241107T130000
DTSTAMP:20260426T091855
CREATED:20241101T182341Z
LAST-MODIFIED:20241101T182341Z
UID:2181-1730970000-1730984400@mengkebang.nadi.my
SUMMARY:Kelas Latihan Canva
DESCRIPTION:
URL:https://mengkebang.nadi.my/event/kelas-latihan-canva/
LOCATION:NADI MENGKEBANG\, NADI MENGKEBANG
CATEGORIES:DEFAULT
END:VEVENT
BEGIN:VEVENT
DTSTART;TZID=UTC:20241105T090000
DTEND;TZID=UTC:20241105T130000
DTSTAMP:20260426T091855
CREATED:20241101T182257Z
LAST-MODIFIED:20241101T182257Z
UID:2180-1730797200-1730811600@mengkebang.nadi.my
SUMMARY:Kelas ICT : Microsoft Office
DESCRIPTION:
URL:https://mengkebang.nadi.my/event/kelas-ict-microsoft-office-22/
LOCATION:NADI MENGKEBANG\, NADI MENGKEBANG
CATEGORIES:DEFAULT
END:VEVENT
BEGIN:VEVENT
DTSTART;TZID=UTC:20241103T090000
DTEND;TZID=UTC:20241103T130000
DTSTAMP:20260426T091855
CREATED:20241101T182208Z
LAST-MODIFIED:20241101T182208Z
UID:2179-1730624400-1730638800@mengkebang.nadi.my
SUMMARY:Kelas Resume
DESCRIPTION:
URL:https://mengkebang.nadi.my/event/kelas-resume-5/
LOCATION:NADI MENGKEBANG\, NADI MENGKEBANG
CATEGORIES:DEFAULT
END:VEVENT
BEGIN:VEVENT
DTSTART;TZID=UTC:20241026T090000
DTEND;TZID=UTC:20241026T130000
DTSTAMP:20260426T091855
CREATED:20240924T063730Z
LAST-MODIFIED:20240924T063730Z
UID:2178-1729933200-1729947600@mengkebang.nadi.my
SUMMARY:Kelas Stem & Asas IOT
DESCRIPTION:
URL:https://mengkebang.nadi.my/event/kelas-stem-asas-iot-9/
LOCATION:NADI MENGKEBANG\, NADI MENGKEBANG
CATEGORIES:DEFAULT
END:VEVENT
BEGIN:VEVENT
DTSTART;TZID=UTC:20241024T090000
DTEND;TZID=UTC:20241024T130000
DTSTAMP:20260426T091855
CREATED:20240924T063701Z
LAST-MODIFIED:20240924T063701Z
UID:2177-1729760400-1729774800@mengkebang.nadi.my
SUMMARY:Kelas ICT: Microsoft Word
DESCRIPTION:
URL:https://mengkebang.nadi.my/event/kelas-ict-microsoft-word-29/
LOCATION:NADI MENGKEBANG\, NADI MENGKEBANG
CATEGORIES:DEFAULT
END:VEVENT
BEGIN:VEVENT
DTSTART;TZID=UTC:20241019T090000
DTEND;TZID=UTC:20241019T130000
DTSTAMP:20260426T091855
CREATED:20240924T063627Z
LAST-MODIFIED:20240924T063627Z
UID:2176-1729328400-1729342800@mengkebang.nadi.my
SUMMARY:Kelas Keusahawanan : Tik Tok Marketing
DESCRIPTION:
URL:https://mengkebang.nadi.my/event/kelas-keusahawanan-tik-tok-marketing/
LOCATION:NADI MENGKEBANG\, NADI MENGKEBANG
CATEGORIES:DEFAULT
END:VEVENT
BEGIN:VEVENT
DTSTART;TZID=UTC:20241017T140000
DTEND;TZID=UTC:20241017T170000
DTSTAMP:20260426T091855
CREATED:20240924T063546Z
LAST-MODIFIED:20240924T063546Z
UID:2175-1729173600-1729184400@mengkebang.nadi.my
SUMMARY:Kelas ICT: Microsoft Excel
DESCRIPTION:
URL:https://mengkebang.nadi.my/event/kelas-ict-microsoft-excel-24/
LOCATION:NADI MENGKEBANG\, NADI MENGKEBANG
CATEGORIES:DEFAULT
END:VEVENT
BEGIN:VEVENT
DTSTART;TZID=UTC:20241010T090000
DTEND;TZID=UTC:20241010T130000
DTSTAMP:20260426T091855
CREATED:20240924T063511Z
LAST-MODIFIED:20240924T063511Z
UID:2174-1728550800-1728565200@mengkebang.nadi.my
SUMMARY:Kelas Keusahawanan: Canva
DESCRIPTION:
URL:https://mengkebang.nadi.my/event/kelas-keusahawanan-canva-2/
LOCATION:NADI MENGKEBANG\, NADI MENGKEBANG
CATEGORIES:DEFAULT
END:VEVENT
BEGIN:VEVENT
DTSTART;TZID=UTC:20241008T090000
DTEND;TZID=UTC:20241008T130000
DTSTAMP:20260426T091855
CREATED:20240924T063437Z
LAST-MODIFIED:20240924T063437Z
UID:2173-1728378000-1728392400@mengkebang.nadi.my
SUMMARY:Kelas Keusahawanan: Tik Tok Shop
DESCRIPTION:
URL:https://mengkebang.nadi.my/event/kelas-keusahawanan-tik-tok-shop-4/
LOCATION:NADI MENGKEBANG\, NADI MENGKEBANG
CATEGORIES:DEFAULT
END:VEVENT
BEGIN:VEVENT
DTSTART;TZID=UTC:20241006T090000
DTEND;TZID=UTC:20241006T130000
DTSTAMP:20260426T091855
CREATED:20240924T063339Z
LAST-MODIFIED:20240924T063339Z
UID:2172-1728205200-1728219600@mengkebang.nadi.my
SUMMARY:Kelas ICT: Microsoft Office
DESCRIPTION:
URL:https://mengkebang.nadi.my/event/kelas-ict-microsoft-office-21/
LOCATION:NADI MENGKEBANG\, NADI MENGKEBANG
CATEGORIES:DEFAULT
END:VEVENT
BEGIN:VEVENT
DTSTART;TZID=UTC:20241002T140000
DTEND;TZID=UTC:20241002T170000
DTSTAMP:20260426T091855
CREATED:20240924T063255Z
LAST-MODIFIED:20240924T063255Z
UID:2171-1727877600-1727888400@mengkebang.nadi.my
SUMMARY:E-Learning (Kuiz)
DESCRIPTION:
URL:https://mengkebang.nadi.my/event/e-learning-kuiz/
LOCATION:NADI MENGKEBANG\, NADI MENGKEBANG
CATEGORIES:DEFAULT
END:VEVENT
BEGIN:VEVENT
DTSTART;TZID=UTC:20240926T090000
DTEND;TZID=UTC:20240926T130000
DTSTAMP:20260426T091855
CREATED:20240829T232359Z
LAST-MODIFIED:20240829T232359Z
UID:2075-1727341200-1727355600@mengkebang.nadi.my
SUMMARY:Kelas Keusahawanan : Tik Tok Shop
DESCRIPTION:
URL:https://mengkebang.nadi.my/event/kelas-keusahawanan-tik-tok-shop-3/
LOCATION:NADI MENGKEBANG\, NADI MENGKEBANG
CATEGORIES:DEFAULT
END:VEVENT
BEGIN:VEVENT
DTSTART;TZID=UTC:20240924T090000
DTEND;TZID=UTC:20240924T130000
DTSTAMP:20260426T091855
CREATED:20240829T232309Z
LAST-MODIFIED:20240829T232309Z
UID:2074-1727168400-1727182800@mengkebang.nadi.my
SUMMARY:Kelas ICT : Microsoft Word
DESCRIPTION:
URL:https://mengkebang.nadi.my/event/kelas-ict-microsoft-word-28/
LOCATION:NADI MENGKEBANG\, NADI MENGKEBANG
CATEGORIES:DEFAULT
END:VEVENT
BEGIN:VEVENT
DTSTART;TZID=UTC:20240921T090000
DTEND;TZID=UTC:20240921T130000
DTSTAMP:20260426T091855
CREATED:20240829T232233Z
LAST-MODIFIED:20240829T232233Z
UID:2073-1726909200-1726923600@mengkebang.nadi.my
SUMMARY:Kelas ICT : Microsoft Excel
DESCRIPTION:
URL:https://mengkebang.nadi.my/event/kelas-ict-microsoft-excel-23/
LOCATION:NADI MENGKEBANG\, NADI MENGKEBANG
CATEGORIES:DEFAULT
END:VEVENT
BEGIN:VEVENT
DTSTART;TZID=UTC:20240918T140000
DTEND;TZID=UTC:20240918T170000
DTSTAMP:20260426T091855
CREATED:20240829T232156Z
LAST-MODIFIED:20240829T232156Z
UID:2072-1726668000-1726678800@mengkebang.nadi.my
SUMMARY:Kelas STEM & Asas IOT
DESCRIPTION:
URL:https://mengkebang.nadi.my/event/kelas-stem-asas-iot-8/
LOCATION:NADI MENGKEBANG\, NADI MENGKEBANG
CATEGORIES:DEFAULT
END:VEVENT
BEGIN:VEVENT
DTSTART;TZID=UTC:20240912T090000
DTEND;TZID=UTC:20240912T130000
DTSTAMP:20260426T091855
CREATED:20240829T232123Z
LAST-MODIFIED:20240829T232123Z
UID:2071-1726131600-1726146000@mengkebang.nadi.my
SUMMARY:Kelas Keusahawanan : Canva
DESCRIPTION:
URL:https://mengkebang.nadi.my/event/kelas-keusahawanan-canva/
LOCATION:NADI MENGKEBANG\, NADI MENGKEBANG
CATEGORIES:DEFAULT
END:VEVENT
BEGIN:VEVENT
DTSTART;TZID=UTC:20240910T090000
DTEND;TZID=UTC:20240910T130000
DTSTAMP:20260426T091855
CREATED:20240829T232052Z
LAST-MODIFIED:20240829T232052Z
UID:2070-1725958800-1725973200@mengkebang.nadi.my
SUMMARY:Kelas Keusahawanan: Tik Tok Shop
DESCRIPTION:
URL:https://mengkebang.nadi.my/event/kelas-keusahawanan-tik-tok-shop-2/
LOCATION:NADI MENGKEBANG\, NADI MENGKEBANG
CATEGORIES:DEFAULT
END:VEVENT
BEGIN:VEVENT
DTSTART;TZID=UTC:20240908T090000
DTEND;TZID=UTC:20240908T130000
DTSTAMP:20260426T091855
CREATED:20240829T232008Z
LAST-MODIFIED:20240829T232008Z
UID:2069-1725786000-1725800400@mengkebang.nadi.my
SUMMARY:Kelas ICT : Microsoft Office
DESCRIPTION:
URL:https://mengkebang.nadi.my/event/kelas-ict-microsoft-office-20/
LOCATION:NADI MENGKEBANG\, NADI MENGKEBANG
CATEGORIES:DEFAULT
END:VEVENT
BEGIN:VEVENT
DTSTART;TZID=UTC:20240905T140000
DTEND;TZID=UTC:20240905T170000
DTSTAMP:20260426T091855
CREATED:20240829T231923Z
LAST-MODIFIED:20240829T231923Z
UID:2068-1725544800-1725555600@mengkebang.nadi.my
SUMMARY:E-Pembelajaran
DESCRIPTION:
URL:https://mengkebang.nadi.my/event/e-pembelajaran-22/
LOCATION:NADI MENGKEBANG\, NADI MENGKEBANG
CATEGORIES:DEFAULT
END:VEVENT
BEGIN:VEVENT
DTSTART;TZID=UTC:20240829T090000
DTEND;TZID=UTC:20240829T130000
DTSTAMP:20260426T091855
CREATED:20240801T194835Z
LAST-MODIFIED:20240801T194835Z
UID:2067-1724922000-1724936400@mengkebang.nadi.my
SUMMARY:Kelas ICT : Microsoft Word
DESCRIPTION:
URL:https://mengkebang.nadi.my/event/kelas-ict-microsoft-word-27/
LOCATION:NADI MENGKEBANG\, NADI MENGKEBANG
CATEGORIES:DEFAULT
END:VEVENT
BEGIN:VEVENT
DTSTART;TZID=UTC:20240824T090000
DTEND;TZID=UTC:20240824T130000
DTSTAMP:20260426T091855
CREATED:20240801T194803Z
LAST-MODIFIED:20240801T194803Z
UID:2066-1724490000-1724504400@mengkebang.nadi.my
SUMMARY:Kelas Keusahawanan: FB Ads
DESCRIPTION:
URL:https://mengkebang.nadi.my/event/kelas-keusahawanan-fb-ads-3/
LOCATION:NADI MENGKEBANG\, NADI MENGKEBANG
CATEGORIES:DEFAULT
END:VEVENT
BEGIN:VEVENT
DTSTART;TZID=UTC:20240822T090000
DTEND;TZID=UTC:20240822T130000
DTSTAMP:20260426T091855
CREATED:20240801T194732Z
LAST-MODIFIED:20240801T194732Z
UID:2065-1724317200-1724331600@mengkebang.nadi.my
SUMMARY:Kelas ICT: Microsoft Excel
DESCRIPTION:
URL:https://mengkebang.nadi.my/event/kelas-ict-microsoft-excel-22/
LOCATION:NADI MENGKEBANG\, NADI MENGKEBANG
CATEGORIES:DEFAULT
END:VEVENT
BEGIN:VEVENT
DTSTART;TZID=UTC:20240817T090000
DTEND;TZID=UTC:20240817T130000
DTSTAMP:20260426T091855
CREATED:20240801T194702Z
LAST-MODIFIED:20240801T194702Z
UID:2064-1723885200-1723899600@mengkebang.nadi.my
SUMMARY:Kelas ICT: Microsoft Office
DESCRIPTION:
URL:https://mengkebang.nadi.my/event/kelas-ict-microsoft-office-19/
LOCATION:NADI MENGKEBANG\, NADI MENGKEBANG
CATEGORIES:DEFAULT
END:VEVENT
BEGIN:VEVENT
DTSTART;TZID=UTC:20240815T090000
DTEND;TZID=UTC:20240815T130000
DTSTAMP:20260426T091855
CREATED:20240801T194632Z
LAST-MODIFIED:20240801T194632Z
UID:2063-1723712400-1723726800@mengkebang.nadi.my
SUMMARY:Kelas Stem & Asas IOT
DESCRIPTION:
URL:https://mengkebang.nadi.my/event/kelas-stem-asas-iot-7/
LOCATION:NADI MENGKEBANG\, NADI MENGKEBANG
CATEGORIES:DEFAULT
END:VEVENT
BEGIN:VEVENT
DTSTART;TZID=UTC:20240808T090000
DTEND;TZID=UTC:20240808T130000
DTSTAMP:20260426T091855
CREATED:20240801T194559Z
LAST-MODIFIED:20240801T194559Z
UID:2062-1723107600-1723122000@mengkebang.nadi.my
SUMMARY:Kelas Canva
DESCRIPTION:
URL:https://mengkebang.nadi.my/event/kelas-canva-6/
LOCATION:NADI MENGKEBANG\, NADI MENGKEBANG
CATEGORIES:DEFAULT
END:VEVENT
END:VCALENDAR