BEGIN:VCALENDAR
VERSION:2.0
PRODID:-//NADI Mengkebang - ECPv6.15.20//NONSGML v1.0//EN
CALSCALE:GREGORIAN
METHOD:PUBLISH
X-WR-CALNAME:NADI Mengkebang
X-ORIGINAL-URL:https://mengkebang.nadi.my
X-WR-CALDESC:Events for NADI Mengkebang
REFRESH-INTERVAL;VALUE=DURATION:PT1H
X-Robots-Tag:noindex
X-PUBLISHED-TTL:PT1H
BEGIN:VTIMEZONE
TZID:Asia/Kuala_Lumpur
BEGIN:STANDARD
TZOFFSETFROM:+0800
TZOFFSETTO:+0800
TZNAME:+08
DTSTART:20250101T000000
END:STANDARD
END:VTIMEZONE
BEGIN:VEVENT
DTSTART;TZID=Asia/Kuala_Lumpur:20260420T090000
DTEND;TZID=Asia/Kuala_Lumpur:20260425T110000
DTSTAMP:20260422T141540
CREATED:20260422T034329Z
LAST-MODIFIED:20260422T034329Z
UID:3267-1776675600-1777114800@mengkebang.nadi.my
SUMMARY:ENGLISH PROFICIENCY 20-25 APRIL 2026
DESCRIPTION:ENGLISH PROFICIENCY 20-25 APRIL 2026 📢 \nKhas untuk pelajar Guidance Tuition! \nNak mantapkan penguasaan grammar Bahasa Inggeris anda? Minggu ini kita akan fokus kepada salah satu asas tatabahasa yang paling penting. Jangan lepaskan peluang untuk belajar secara santai tapi berkesan! \n🗓️ Tarikh: 20-25 April 2026\n📝 Topik: Lesson 29 – Connectors \nKenapa modul ini best?\n✅ Pembelajaran Secara Kendiri: Anda boleh belajar mengikut kelajuan sendiri tanpa tekanan.\n✅ Masa Fleksibel: Waktu pembelajaran adalah mengikut keselesaan anda sendiri.\n✅ Pemantauan Prestasi: Pencapaian anda akan dipantau melalui rekod kemajuan bulanan untuk pastikan anda sentiasa on track.\n✅ Akses Penuh: Nikmati akses kepada semua elemen pembelajaran yang disediakan. \nProgram ini adalah KHUSUS untuk pelajar Guidance Tuition sahaja. \nLangkah Penyertaan:\n1. Kunjungi NADI terdekat\n2. Login ke LMS (dilea.nadi.my)\n3. Masuk ke course English Proficiency\n4. Sertai pembelajaran\n5. Tanda penyertaan pada bahagian kehadiran \n#NADI #Tuisyenrakyat #EnglishProficiency
URL:https://mengkebang.nadi.my/event/english-proficiency-20-25-april-2026/
LOCATION:NADI MENGKEBANG\, NADI MENGKEBANG
END:VEVENT
BEGIN:VEVENT
DTSTART;TZID=Asia/Kuala_Lumpur:20260423T150000
DTEND;TZID=Asia/Kuala_Lumpur:20260423T163000
DTSTAMP:20260422T141540
CREATED:20260416T062105Z
LAST-MODIFIED:20260416T062105Z
UID:3160-1776956400-1776961800@mengkebang.nadi.my
SUMMARY:JEMPUTAN WEBINAR LIVE
DESCRIPTION:JEMPUTAN WEBINAR LIVE \nAssalamualaikum & Salam Sejahtera\,\nAnda dijemput untuk menyertai webinar menarik anjuran NADI x Cybersecurity Lifelong Learning:\n Bagaimana Akaun Social Media Anda Boleh Digodam!\n Tarikh: 23 April 2026\n Masa: 3.00 PM – 4.30 PM\n Platform: LMS Cybersecurity\n Terbuka kepada: Belia\, Ibu Bapa & Dewasa\n Syarat Penyertaan:\n Berdaftar sebagai ahli NADI\n Mempunyai akaun LMS Cybersecurity\nJangan lepaskan peluang untuk menambah ilmu keselamatan siber dan melindungi akaun anda daripada ancaman penggodam! \n Layari NADI terdekat untuk maklumat lanjut\nIkuti kami:\n Instagram: @nadicybersecurity\n Facebook: NADI Keselamatan SIBER\nJumpa anda di webinar nanti!
URL:https://mengkebang.nadi.my/event/jemputan-webinar-live/
LOCATION:NADI MENGKEBANG\, NADI MENGKEBANG
END:VEVENT
END:VCALENDAR