BEGIN:VCALENDAR
VERSION:2.0
PRODID:-//NADI Mengkebang - ECPv6.15.20//NONSGML v1.0//EN
CALSCALE:GREGORIAN
METHOD:PUBLISH
X-WR-CALNAME:NADI Mengkebang
X-ORIGINAL-URL:https://mengkebang.nadi.my
X-WR-CALDESC:Events for NADI Mengkebang
REFRESH-INTERVAL;VALUE=DURATION:PT1H
X-Robots-Tag:noindex
X-PUBLISHED-TTL:PT1H
BEGIN:VTIMEZONE
TZID:Asia/Kuala_Lumpur
BEGIN:STANDARD
TZOFFSETFROM:+0800
TZOFFSETTO:+0800
TZNAME:+08
DTSTART:20250101T000000
END:STANDARD
END:VTIMEZONE
BEGIN:VEVENT
DTSTART;TZID=Asia/Kuala_Lumpur:20260413T090000
DTEND;TZID=Asia/Kuala_Lumpur:20260419T180000
DTSTAMP:20260422T090832
CREATED:20260413T031641Z
LAST-MODIFIED:20260413T061137Z
UID:3113-1776070800-1776621600@mengkebang.nadi.my
SUMMARY:PENDAFTARAN VIDEO ON DEMAND - REVISION VIDEO SESI 37 KINI DIBUKA!
DESCRIPTION:PENDAFTARAN VIDEO ON DEMAND – REVISION VIDEO SESI 37 KINI DIBUKA! \n✅ Video on Demand – Revision Video khas untuk anda !\n📅 Tarikh : 13-19 April 2026\n⏰ Waktu: Fleksibel – ikut jadual anda sendiri! \n🎥 Akses rakaman kelas dan boleh ulang tayang sepuas hati! \nRakaman yang tersedia: \n* Rakaman Guidance Tuition\n* Rakaman Open Tuition\n* Rakaman Webinar Pendidikan \nLangkah Penyertaan:\n1. Kunjungi NADI terdekat\n2. Login ke LMS DILEA\n3. Masuk ke course Revision Video\n4. Tonton rakaman video\n5. Tanda penyertaan pada bahagian ‘kehadiran’ \n📌 Jangan lepaskan peluang! \nDaftar sekarang & ulangkaji dengan lebih mudah
URL:https://mengkebang.nadi.my/event/pendaftaran-video-on-demand-revision-video-sesi-37-kini-dibuka/
LOCATION:NADI MENGKEBANG\, NADI MENGKEBANG
END:VEVENT
END:VCALENDAR