BEGIN:VCALENDAR
VERSION:2.0
PRODID:-//NADI Mengkebang - ECPv6.15.20//NONSGML v1.0//EN
CALSCALE:GREGORIAN
METHOD:PUBLISH
X-WR-CALNAME:NADI Mengkebang
X-ORIGINAL-URL:https://mengkebang.nadi.my
X-WR-CALDESC:Events for NADI Mengkebang
REFRESH-INTERVAL;VALUE=DURATION:PT1H
X-Robots-Tag:noindex
X-PUBLISHED-TTL:PT1H
BEGIN:VTIMEZONE
TZID:Asia/Kuala_Lumpur
BEGIN:STANDARD
TZOFFSETFROM:+0800
TZOFFSETTO:+0800
TZNAME:+08
DTSTART:20250101T000000
END:STANDARD
END:VTIMEZONE
BEGIN:VEVENT
DTSTART;TZID=Asia/Kuala_Lumpur:20260228T100000
DTEND;TZID=Asia/Kuala_Lumpur:20260228T110000
DTSTAMP:20260423T161256
CREATED:20260211T083354Z
LAST-MODIFIED:20260211T083354Z
UID:2651-1772272800-1772276400@mengkebang.nadi.my
SUMMARY:TINY TECHIES KELAS ULANGKAJI SIRI 2 (ATAS TALIAN) PYTHON\, HTML & SQL
DESCRIPTION:Ulangkaji asas pengaturcaraan\, pembangunan web dan pangkalan data sebagai persediaan pembelajaran lanjutan. \n🗓️ 28 Februari 2026 (Sabtu)\n⏰ 10.00 pg –11.00 pg\n💻 Platform: NADIBook\n🔗 Pautan: https://nadibook.my/ \n✨ Apa yang menarik?\n✔️ Kelas ONLINE & LIVE\n✔️ PERCUMA untuk Ahli Berdaftar NADI\n✔️ Modul Pembelajaran disediakan\n✔️ Dikendalikan oleh fasilitator berpengalaman\n✔️ Sesi soal jawab secara langsung \n📌 Syarat Penyertaan:\n▪️ Berdaftar sebagai Ahli NADI
URL:https://mengkebang.nadi.my/event/tiny-techies-kelas-ulangkaji-siri-2-atas-talian-python-html-sql/
LOCATION:NADI MENGKEBANG\, NADI MENGKEBANG
END:VEVENT
END:VCALENDAR