BEGIN:VCALENDAR
VERSION:2.0
PRODID:-//NADI Mengkebang - ECPv6.15.20//NONSGML v1.0//EN
CALSCALE:GREGORIAN
METHOD:PUBLISH
X-WR-CALNAME:NADI Mengkebang
X-ORIGINAL-URL:https://mengkebang.nadi.my
X-WR-CALDESC:Events for NADI Mengkebang
REFRESH-INTERVAL;VALUE=DURATION:PT1H
X-Robots-Tag:noindex
X-PUBLISHED-TTL:PT1H
BEGIN:VTIMEZONE
TZID:Asia/Kuala_Lumpur
BEGIN:STANDARD
TZOFFSETFROM:+0800
TZOFFSETTO:+0800
TZNAME:+08
DTSTART:20250101T000000
END:STANDARD
END:VTIMEZONE
BEGIN:VEVENT
DTSTART;TZID=Asia/Kuala_Lumpur:20260211T122500
DTEND;TZID=Asia/Kuala_Lumpur:20260211T125500
DTSTAMP:20260423T094256
CREATED:20260210T094731Z
LAST-MODIFIED:20260210T094731Z
UID:2616-1770812700-1770814500@mengkebang.nadi.my
SUMMARY:MAHIR BAIKI GAJET: SHORT LEARNING SERIES Q1 2026
DESCRIPTION:Mahir Short Learning Series\, Q1 2026\nSertai sesi perkongsian ilmu bertajuk Pengoptimuman Prestasi Telefon Pintar daripada Mahir Baiki Gejet. Pelajari teknik asas untuk meningkatkan prestasi telefon pintar\, mengenal pasti punca telefon menjadi perlahan\, serta langkah penyelenggaraan yang betul bagi memastikan penggunaan peranti lebih lancar\, selamat dan efisien. \n📅 Tarikh: 11 Februari 2026 (Rabu)\n⏰ Masa: 12.25 tengah hari – 12.55 tengah hari\n📍 Platform: Siaran langsung dari YouTube Studio NADI Mahir \nTingkatkan pengetahuan digital anda dan manfaatkan penggunaan telefon pintar secara lebih optimum dalam kehidupan seharian.
URL:https://mengkebang.nadi.my/event/mahir-baiki-gajet-short-learning-series-q1-2026/
LOCATION:NADI MENGKEBANG\, NADI MENGKEBANG
END:VEVENT
END:VCALENDAR